BEGIN:VCALENDAR
VERSION:2.0
PRODID:-//Miserden Parish Council//Meeting Calendar//EN
CALSCALE:GREGORIAN
METHOD:PUBLISH
BEGIN:VEVENT
UID:70384-20240130@miserdenparishcouncil.gov.uk
DTSTAMP:20260423T133508Z
DTSTART;VALUE=DATE:20240130
DTEND;VALUE=DATE:20240131
SUMMARY:Council Meeting &#8211\\; 30th January 2024
DESCRIPTION:Council Meeting\nView details: https://miserdenparishcouncil.gov.uk/meetings/council-meeting-30th-january-2024/
URL:https://miserdenparishcouncil.gov.uk/meetings/council-meeting-30th-january-2024/
END:VEVENT
END:VCALENDAR
