BEGIN:VCALENDAR
VERSION:2.0
PRODID:-//Miserden Parish Council//Meeting Calendar//EN
CALSCALE:GREGORIAN
METHOD:PUBLISH
BEGIN:VEVENT
UID:70388-20230101@miserdenparishcouncil.gov.uk
DTSTAMP:20260423T122641Z
DTSTART;VALUE=DATE:20230101
DTEND;VALUE=DATE:20230102
SUMMARY:Council Meetings &#8211\\; 2023
DESCRIPTION:Council Meeting\nView details: https://miserdenparishcouncil.gov.uk/meetings/full-council-meetings-2023/
URL:https://miserdenparishcouncil.gov.uk/meetings/full-council-meetings-2023/
END:VEVENT
END:VCALENDAR
