BEGIN:VCALENDAR
VERSION:2.0
PRODID:-//Miserden Parish Council//Meeting Calendar//EN
CALSCALE:GREGORIAN
METHOD:PUBLISH
BEGIN:VEVENT
UID:70400-20220101@miserdenparishcouncil.gov.uk
DTSTAMP:20260423T121453Z
DTSTART;VALUE=DATE:20220101
DTEND;VALUE=DATE:20220102
SUMMARY:Council Meetings &#8211\\; 2022
DESCRIPTION:Council Meeting\nView details: https://miserdenparishcouncil.gov.uk/meetings/council-meetings-2022/
URL:https://miserdenparishcouncil.gov.uk/meetings/council-meetings-2022/
END:VEVENT
END:VCALENDAR
