BEGIN:VCALENDAR
VERSION:2.0
PRODID:-//Miserden Parish Council//Meeting Calendar//EN
CALSCALE:GREGORIAN
METHOD:PUBLISH
BEGIN:VEVENT
UID:70411-20220504@miserdenparishcouncil.gov.uk
DTSTAMP:20260423T121352Z
DTSTART;VALUE=DATE:20220504
DTEND;VALUE=DATE:20220505
SUMMARY:Annual Council Meeting &#8211\\; 2022
DESCRIPTION:Council Meeting\nView details: https://miserdenparishcouncil.gov.uk/meetings/annual-council-meeting-2022/
URL:https://miserdenparishcouncil.gov.uk/meetings/annual-council-meeting-2022/
END:VEVENT
END:VCALENDAR
