BEGIN:VCALENDAR
VERSION:2.0
PRODID:-//Miserden Parish Council//Meeting Calendar//EN
CALSCALE:GREGORIAN
METHOD:PUBLISH
BEGIN:VEVENT
UID:70412-20210101@miserdenparishcouncil.gov.uk
DTSTAMP:20260423T110147Z
DTSTART;VALUE=DATE:20210101
DTEND;VALUE=DATE:20210102
SUMMARY:Council Meetings &#8211\\; 2021
DESCRIPTION:Council Meeting\nView details: https://miserdenparishcouncil.gov.uk/meetings/council-meetings-2021/
URL:https://miserdenparishcouncil.gov.uk/meetings/council-meetings-2021/
END:VEVENT
END:VCALENDAR
