BEGIN:VCALENDAR
VERSION:2.0
PRODID:-//Miserden Parish Council//Meeting Calendar//EN
CALSCALE:GREGORIAN
METHOD:PUBLISH
BEGIN:VEVENT
UID:70423-20210527@miserdenparishcouncil.gov.uk
DTSTAMP:20260423T111428Z
DTSTART;VALUE=DATE:20210527
DTEND;VALUE=DATE:20210528
SUMMARY:Annual Council Meeting &#8211\\; 2021
DESCRIPTION:Council Meeting\nView details: https://miserdenparishcouncil.gov.uk/meetings/annual-council-meeting-2021/
URL:https://miserdenparishcouncil.gov.uk/meetings/annual-council-meeting-2021/
END:VEVENT
END:VCALENDAR
