BEGIN:VCALENDAR
VERSION:2.0
PRODID:-//Miserden Parish Council//Meeting Calendar//EN
CALSCALE:GREGORIAN
METHOD:PUBLISH
BEGIN:VEVENT
UID:70682-20240105@miserdenparishcouncil.gov.uk
DTSTAMP:20260423T121836Z
DTSTART;VALUE=DATE:20240105
DTEND;VALUE=DATE:20240106
SUMMARY:Council Meeting &#8211\\; 5th January2024
DESCRIPTION:Full Council Meeting\nView details: https://miserdenparishcouncil.gov.uk/meetings/council-meeting-5th-january2024/
URL:https://miserdenparishcouncil.gov.uk/meetings/council-meeting-5th-january2024/
END:VEVENT
END:VCALENDAR
