BEGIN:VCALENDAR
VERSION:2.0
PRODID:-//Miserden Parish Council//Meeting Calendar//EN
CALSCALE:GREGORIAN
METHOD:PUBLISH
BEGIN:VEVENT
UID:70686-20240625@miserdenparishcouncil.gov.uk
DTSTAMP:20260423T134656Z
DTSTART;VALUE=DATE:20240625
DTEND;VALUE=DATE:20240626
SUMMARY:June 2024
DESCRIPTION:Full Council Meeting\nView details: https://miserdenparishcouncil.gov.uk/meetings/fullcouncil/
URL:https://miserdenparishcouncil.gov.uk/meetings/fullcouncil/
END:VEVENT
END:VCALENDAR
