BEGIN:VCALENDAR
VERSION:2.0
PRODID:-//Miserden Parish Council//Meeting Calendar//EN
CALSCALE:GREGORIAN
METHOD:PUBLISH
BEGIN:VEVENT
UID:70696-20240730@miserdenparishcouncil.gov.uk
DTSTAMP:20260423T134131Z
DTSTART;VALUE=DATE:20240730
DTEND;VALUE=DATE:20240731
SUMMARY:July 2024 Council Meeting
DESCRIPTION:Full Council Meeting\nView details: https://miserdenparishcouncil.gov.uk/meetings/july-2024-council-meeting/
URL:https://miserdenparishcouncil.gov.uk/meetings/july-2024-council-meeting/
END:VEVENT
END:VCALENDAR
