BEGIN:VCALENDAR
VERSION:2.0
PRODID:-//Miserden Parish Council//Meeting Calendar//EN
CALSCALE:GREGORIAN
METHOD:PUBLISH
BEGIN:VEVENT
UID:70833-20241029@miserdenparishcouncil.gov.uk
DTSTAMP:20260423T150343Z
DTSTART;VALUE=DATE:20241029
DTEND;VALUE=DATE:20241030
SUMMARY:October Full Council
DESCRIPTION:Full Council Meeting\nView details: https://miserdenparishcouncil.gov.uk/meetings/meeting-name-here/
URL:https://miserdenparishcouncil.gov.uk/meetings/meeting-name-here/
END:VEVENT
END:VCALENDAR
