BEGIN:VCALENDAR
VERSION:2.0
PRODID:-//Miserden Parish Council//Meeting Calendar//EN
CALSCALE:GREGORIAN
METHOD:PUBLISH
BEGIN:VEVENT
UID:70863-20241126@miserdenparishcouncil.gov.uk
DTSTAMP:20260423T150451Z
DTSTART;VALUE=DATE:20241126
DTEND;VALUE=DATE:20241127
SUMMARY:November Full Meeting
DESCRIPTION:Full Council Meeting\nView details: https://miserdenparishcouncil.gov.uk/meetings/november-full-meeting/
URL:https://miserdenparishcouncil.gov.uk/meetings/november-full-meeting/
END:VEVENT
END:VCALENDAR
