BEGIN:VCALENDAR
VERSION:2.0
PRODID:-//Miserden Parish Council//Meeting Calendar//EN
CALSCALE:GREGORIAN
METHOD:PUBLISH
BEGIN:VEVENT
UID:70881-20241217@miserdenparishcouncil.gov.uk
DTSTAMP:20260423T151325Z
DTSTART;VALUE=DATE:20241217
DTEND;VALUE=DATE:20241218
SUMMARY:December Council Meeting
DESCRIPTION:Full Council Meeting\nView details: https://miserdenparishcouncil.gov.uk/meetings/december-2024/
URL:https://miserdenparishcouncil.gov.uk/meetings/december-2024/
END:VEVENT
END:VCALENDAR
