BEGIN:VCALENDAR
VERSION:2.0
PRODID:-//Miserden Parish Council//Meeting Calendar//EN
CALSCALE:GREGORIAN
METHOD:PUBLISH
BEGIN:VEVENT
UID:70893-20250128@miserdenparishcouncil.gov.uk
DTSTAMP:20260423T144647Z
DTSTART;VALUE=DATE:20250128
DTEND;VALUE=DATE:20250129
SUMMARY:January Council Meeting
DESCRIPTION:Full Council Meeting\nView details: https://miserdenparishcouncil.gov.uk/meetings/january2025/
URL:https://miserdenparishcouncil.gov.uk/meetings/january2025/
END:VEVENT
END:VCALENDAR
