BEGIN:VCALENDAR
VERSION:2.0
PRODID:-//Miserden Parish Council//Meeting Calendar//EN
CALSCALE:GREGORIAN
METHOD:PUBLISH
BEGIN:VEVENT
UID:70894-20250225@miserdenparishcouncil.gov.uk
DTSTAMP:20260423T143912Z
DTSTART;VALUE=DATE:20250225
DTEND;VALUE=DATE:20250226
SUMMARY:February Council Meeting
DESCRIPTION:Full Council Meeting\nView details: https://miserdenparishcouncil.gov.uk/meetings/february-council-meeting/
URL:https://miserdenparishcouncil.gov.uk/meetings/february-council-meeting/
END:VEVENT
END:VCALENDAR
