BEGIN:VCALENDAR
VERSION:2.0
PRODID:-//Miserden Parish Council//Meeting Calendar//EN
CALSCALE:GREGORIAN
METHOD:PUBLISH
BEGIN:VEVENT
UID:70895-20250325@miserdenparishcouncil.gov.uk
DTSTAMP:20260423T145317Z
DTSTART;VALUE=DATE:20250325
DTEND;VALUE=DATE:20250326
SUMMARY:March Council Meeting
DESCRIPTION:Full Council Meeting\nView details: https://miserdenparishcouncil.gov.uk/meetings/march-council-meeting/
URL:https://miserdenparishcouncil.gov.uk/meetings/march-council-meeting/
END:VEVENT
END:VCALENDAR
