BEGIN:VCALENDAR
VERSION:2.0
PRODID:-//Miserden Parish Council//Meeting Calendar//EN
CALSCALE:GREGORIAN
METHOD:PUBLISH
BEGIN:VEVENT
UID:70955-20250429@miserdenparishcouncil.gov.uk
DTSTAMP:20260423T133347Z
DTSTART;VALUE=DATE:20250429
DTEND;VALUE=DATE:20250430
SUMMARY:Annual Meeting of The Council
DESCRIPTION:Full Council Meeting\nView details: https://miserdenparishcouncil.gov.uk/meetings/annual-meeting-of-the-council/
URL:https://miserdenparishcouncil.gov.uk/meetings/annual-meeting-of-the-council/
END:VEVENT
END:VCALENDAR
