BEGIN:VCALENDAR
VERSION:2.0
PRODID:-//Miserden Parish Council//Meeting Calendar//EN
CALSCALE:GREGORIAN
METHOD:PUBLISH
BEGIN:VEVENT
UID:70956-20250521@miserdenparishcouncil.gov.uk
DTSTAMP:20260423T130511Z
DTSTART;VALUE=DATE:20250521
DTEND;VALUE=DATE:20250522
SUMMARY:Annual PARISH Meeting
DESCRIPTION:Full Council Meeting\nView details: https://miserdenparishcouncil.gov.uk/meetings/annual-parish-meeting-date-tbc-by-29-4/
URL:https://miserdenparishcouncil.gov.uk/meetings/annual-parish-meeting-date-tbc-by-29-4/
END:VEVENT
END:VCALENDAR
