BEGIN:VCALENDAR
VERSION:2.0
PRODID:-//Miserden Parish Council//Meeting Calendar//EN
CALSCALE:GREGORIAN
METHOD:PUBLISH
BEGIN:VEVENT
UID:70976-20250527@miserdenparishcouncil.gov.uk
DTSTAMP:20260423T131004Z
DTSTART;VALUE=DATE:20250527
DTEND;VALUE=DATE:20250528
SUMMARY:May Full Council Meeting
DESCRIPTION:Full Council Meeting\nView details: https://miserdenparishcouncil.gov.uk/meetings/full-council-meeting/
URL:https://miserdenparishcouncil.gov.uk/meetings/full-council-meeting/
END:VEVENT
END:VCALENDAR
