BEGIN:VCALENDAR
VERSION:2.0
PRODID:-//Miserden Parish Council//Meeting Calendar//EN
CALSCALE:GREGORIAN
METHOD:PUBLISH
BEGIN:VEVENT
UID:71028-20250729@miserdenparishcouncil.gov.uk
DTSTAMP:20260423T113448Z
DTSTART;VALUE=DATE:20250729
DTEND;VALUE=DATE:20250730
SUMMARY:July Full Council Meeting
DESCRIPTION:Full Council Meeting\nView details: https://miserdenparishcouncil.gov.uk/meetings/july-full-council-meeting/
URL:https://miserdenparishcouncil.gov.uk/meetings/july-full-council-meeting/
END:VEVENT
END:VCALENDAR
