BEGIN:VCALENDAR
VERSION:2.0
PRODID:-//Miserden Parish Council//Meeting Calendar//EN
CALSCALE:GREGORIAN
METHOD:PUBLISH
BEGIN:VEVENT
UID:71045-20250930@miserdenparishcouncil.gov.uk
DTSTAMP:20260423T113556Z
DTSTART;VALUE=DATE:20250930
DTEND;VALUE=DATE:20251001
SUMMARY:September Full Council Meeting- cancelled
DESCRIPTION:Full Council Meeting\nView details: https://miserdenparishcouncil.gov.uk/meetings/september-full-council-meeting/
URL:https://miserdenparishcouncil.gov.uk/meetings/september-full-council-meeting/
END:VEVENT
END:VCALENDAR
