BEGIN:VCALENDAR
VERSION:2.0
PRODID:-//Miserden Parish Council//Meeting Calendar//EN
CALSCALE:GREGORIAN
METHOD:PUBLISH
BEGIN:VEVENT
UID:71049-20251028@miserdenparishcouncil.gov.uk
DTSTAMP:20260423T113945Z
DTSTART;VALUE=DATE:20251028
DTEND;VALUE=DATE:20251029
SUMMARY:October Full Council Meeting
DESCRIPTION:Full Council Meeting\nView details: https://miserdenparishcouncil.gov.uk/meetings/october-full-council-meeting/
URL:https://miserdenparishcouncil.gov.uk/meetings/october-full-council-meeting/
END:VEVENT
END:VCALENDAR
