BEGIN:VCALENDAR
VERSION:2.0
PRODID:-//Miserden Parish Council//Meeting Calendar//EN
CALSCALE:GREGORIAN
METHOD:PUBLISH
BEGIN:VEVENT
UID:71053-20251125@miserdenparishcouncil.gov.uk
DTSTAMP:20260423T111310Z
DTSTART;VALUE=DATE:20251125
DTEND;VALUE=DATE:20251126
SUMMARY:November Full Council Meeting
DESCRIPTION:Full Council Meeting\nView details: https://miserdenparishcouncil.gov.uk/meetings/november-full-council-meeting/
URL:https://miserdenparishcouncil.gov.uk/meetings/november-full-council-meeting/
END:VEVENT
END:VCALENDAR
