BEGIN:VCALENDAR
VERSION:2.0
PRODID:-//Miserden Parish Council//Meeting Calendar//EN
CALSCALE:GREGORIAN
METHOD:PUBLISH
BEGIN:VEVENT
UID:71069-20251216@miserdenparishcouncil.gov.uk
DTSTAMP:20260423T100015Z
DTSTART;VALUE=DATE:20251216
DTEND;VALUE=DATE:20251217
SUMMARY:No meeting December 2025
DESCRIPTION:Full Council Meeting\nView details: https://miserdenparishcouncil.gov.uk/meetings/no-meeting-december-2025/
URL:https://miserdenparishcouncil.gov.uk/meetings/no-meeting-december-2025/
END:VEVENT
END:VCALENDAR
