BEGIN:VCALENDAR
VERSION:2.0
PRODID:-//Miserden Parish Council//Meeting Calendar//EN
CALSCALE:GREGORIAN
METHOD:PUBLISH
BEGIN:VEVENT
UID:71077-20260205@miserdenparishcouncil.gov.uk
DTSTAMP:20260423T094815Z
DTSTART;VALUE=DATE:20260205
DTEND;VALUE=DATE:20260206
SUMMARY:January 2026 Full Council-postponed
DESCRIPTION:Full Council Meeting\nView details: https://miserdenparishcouncil.gov.uk/meetings/january-2026-full-council/
URL:https://miserdenparishcouncil.gov.uk/meetings/january-2026-full-council/
END:VEVENT
END:VCALENDAR
