BEGIN:VCALENDAR
VERSION:2.0
PRODID:-//Miserden Parish Council//Meeting Calendar//EN
CALSCALE:GREGORIAN
METHOD:PUBLISH
BEGIN:VEVENT
UID:71079-20260224@miserdenparishcouncil.gov.uk
DTSTAMP:20260423T101703Z
DTSTART;VALUE=DATE:20260224
DTEND;VALUE=DATE:20260225
SUMMARY:February 2026 Full Council
DESCRIPTION:Full Council Meeting\nView details: https://miserdenparishcouncil.gov.uk/meetings/february-2026-full-council/
URL:https://miserdenparishcouncil.gov.uk/meetings/february-2026-full-council/
END:VEVENT
END:VCALENDAR
